BEGIN:VCALENDAR
VERSION:2.0
PRODID:-//eventon.com NONSGML v1.0//EN
CALSCALE:GREGORIAN
METHOD:PUBLISH
BEGIN:VEVENT
UID:69e88e005ae01
DTSTAMP:20260422T085944Z
DTSTART:20210704T070000Z
DTEND:20210704T110000Z
LOCATION:
SUMMARY:Höhlentrekking Halbtagestour
DESCRIPTION:Höhlentrekking Halbtagestour\nhttps://cojote-outdoor.de/events
 /hoehlentrekking-halbtagestour/
URL:https://cojote-outdoor.de/events/hoehlentrekking-halbtagestour/
END:VEVENT
END:VCALENDAR