BEGIN:VCALENDAR
VERSION:2.0
PRODID:-//eventon.com NONSGML v1.0//EN
CALSCALE:GREGORIAN
METHOD:PUBLISH
BEGIN:VEVENT
UID:69e88e064ac2e
DTSTAMP:20260422T085950Z
DTSTART:19691231T230000Z
DTEND:19691231T230000Z
LOCATION:
SUMMARY:Kletterwand Jugendherberge Bad Urach
DESCRIPTION:Kletterwand Jugendherberge Bad Urach\nhttps://cojote-outdoor.de
 /events/kletterwand-jugendherberge-bad-urach/
URL:https://cojote-outdoor.de/events/kletterwand-jugendherberge-bad-urach/
END:VEVENT
END:VCALENDAR