BEGIN:VCALENDAR
VERSION:2.0
PRODID:-//eventon.com NONSGML v1.0//EN
CALSCALE:GREGORIAN
METHOD:PUBLISH
BEGIN:VEVENT
UID:69e9ded81fb34
DTSTAMP:20260423T085656Z
DTSTART:20210813T120000Z
DTEND:20210815T120000Z
LOCATION:
SUMMARY:Familien-Wildniscamp
DESCRIPTION:Familien-Wildniscamp\nhttps://cojote-outdoor.de/events/familien
 -wildniscamp/
URL:https://cojote-outdoor.de/events/familien-wildniscamp/
END:VEVENT
END:VCALENDAR