BEGIN:VCALENDAR
VERSION:2.0
PRODID:-//eventon.com NONSGML v1.0//EN
CALSCALE:GREGORIAN
METHOD:PUBLISH
BEGIN:VEVENT
UID:69e8a50c25c59
DTSTAMP:20260422T103804Z
DTSTART:20220809T110000Z
DTEND:20220809T160000Z
LOCATION:
SUMMARY:Falkensteiner Höhle Tour 3 - Die Tour für Sportliche
DESCRIPTION:Falkensteiner Höhle Tour 3 - Die Tour für Sportliche\nhttps:/
 /cojote-outdoor.de/events/falkensteiner-hoehle-tour-3-die-tour-fuer-sportli
 che-15/
URL:https://cojote-outdoor.de/events/falkensteiner-hoehle-tour-3-die-tour-fuer-sportliche-15/
END:VEVENT
END:VCALENDAR