BEGIN:VCALENDAR
VERSION:2.0
PRODID:-//eventon.com NONSGML v1.0//EN
CALSCALE:GREGORIAN
METHOD:PUBLISH
BEGIN:VEVENT
UID:69e7501500c20
DTSTAMP:20260421T092317
DTSTART:20220730T071500Z
DTEND:20220730T111500Z
TZID:Europe/Berlin
LOCATION:
SUMMARY:Falkensteiner Höhle Tour 2 - Die Tour für Mutige
DESCRIPTION: Falkensteiner Höhle Tour 2 - Die Tour für Mutige\nhttps://cojote-outdoor.de/events/falkensteiner-hoehle-tour-2-die-tour-fuer-mutige-12/
URL:https://cojote-outdoor.de/events/falkensteiner-hoehle-tour-2-die-tour-fuer-mutige-12/
END:VEVENT
END:VCALENDAR