BEGIN:VCALENDAR
VERSION:2.0
PRODID:-//eventon.com NONSGML v1.0//EN
CALSCALE:GREGORIAN
METHOD:PUBLISH
BEGIN:VEVENT
UID:69e9def2776d3
DTSTAMP:20260423T085722Z
DTSTART:20230423T063000Z
DTEND:20230423T133000Z
LOCATION:
SUMMARY:Falkensteiner Höhle Tour 3.5
DESCRIPTION:Falkensteiner Höhle Tour 3.5\nhttps://cojote-outdoor.de/events
 /falkensteiner-hoehle-tour-3-5-7/
URL:https://cojote-outdoor.de/events/falkensteiner-hoehle-tour-3-5-7/
END:VEVENT
END:VCALENDAR