BEGIN:VCALENDAR
VERSION:2.0
PRODID:-//eventon.com NONSGML v1.0//EN
CALSCALE:GREGORIAN
METHOD:PUBLISH
BEGIN:VEVENT
UID:69e88df2a73a6
DTSTAMP:20260422T085930Z
DTSTART:20230825T140000Z
DTEND:20230827T100000Z
LOCATION:
SUMMARY:Wildnis-Wochenende für Familien
DESCRIPTION:Wildnis-Wochenende für Familien\nhttps://cojote-outdoor.de/eve
 nts/wildnis-wochenende-fuer-familien-2/
URL:https://cojote-outdoor.de/events/wildnis-wochenende-fuer-familien-2/
END:VEVENT
END:VCALENDAR