BEGIN:VCALENDAR
VERSION:2.0
PRODID:-//eventon.com NONSGML v1.0//EN
CALSCALE:GREGORIAN
METHOD:PUBLISH
BEGIN:VEVENT
UID:69e9ded829d1b
DTSTAMP:20260423T085656Z
DTSTART:20230405T130000Z
DTEND:20230405T160000Z
LOCATION:
SUMMARY:Kletterwand Jugendherberge Bad Urach
DESCRIPTION:Kletterwand Jugendherberge Bad Urach\nhttps://cojote-outdoor.de
 /events/kletterwand-jugendherberge-bad-urach-2/
URL:https://cojote-outdoor.de/events/kletterwand-jugendherberge-bad-urach-2/
END:VEVENT
END:VCALENDAR