BEGIN:VCALENDAR
VERSION:2.0
PRODID:-//eventon.com NONSGML v1.0//EN
CALSCALE:GREGORIAN
METHOD:PUBLISH
BEGIN:VEVENT
UID:69e88dfa0a9fc
DTSTAMP:20260422T085938Z
DTSTART:20230410T073000Z
DTEND:20230410T103000Z
LOCATION:
SUMMARY:Falkensteiner Höhle Tour 1 - Die Einsteigertour
DESCRIPTION:Falkensteiner Höhle Tour 1 - Die Einsteigertour\nhttps://cojot
 e-outdoor.de/events/falkensteiner-hoehle-tour-1-die-einsteigertour-32/
URL:https://cojote-outdoor.de/events/falkensteiner-hoehle-tour-1-die-einsteigertour-32/
END:VEVENT
END:VCALENDAR