BEGIN:VCALENDAR
VERSION:2.0
PRODID:-//eventon.com NONSGML v1.0//EN
CALSCALE:GREGORIAN
METHOD:PUBLISH
BEGIN:VEVENT
UID:69e8a321ef778
DTSTAMP:20260422T102953Z
DTSTART:20230407T110000Z
DTEND:20230407T150000Z
LOCATION:
SUMMARY:Falkensteiner Höhle Tour 2 - Die Tour für Mutige
DESCRIPTION:Falkensteiner Höhle Tour 2 - Die Tour für Mutige\nhttps://coj
 ote-outdoor.de/events/falkensteiner-hoehle-tour-2-die-tour-fuer-mutige-23/
URL:https://cojote-outdoor.de/events/falkensteiner-hoehle-tour-2-die-tour-fuer-mutige-23/
END:VEVENT
END:VCALENDAR