BEGIN:VCALENDAR
VERSION:2.0
PRODID:-//eventon.com NONSGML v1.0//EN
CALSCALE:GREGORIAN
METHOD:PUBLISH
BEGIN:VEVENT
UID:69e9df768c19a
DTSTAMP:20260423T085934Z
DTSTART:20240403T110000Z
DTEND:20240403T150000Z
LOCATION:
SUMMARY:Falkensteiner Höhle Tour 2 - Die Tour für Mutige
DESCRIPTION:Falkensteiner Höhle Tour 2 - Die Tour für Mutige\nhttps://coj
 ote-outdoor.de/events/falkensteiner-hoehle-tour-2-die-tour-fuer-mutige-36/
URL:https://cojote-outdoor.de/events/falkensteiner-hoehle-tour-2-die-tour-fuer-mutige-36/
END:VEVENT
END:VCALENDAR