BEGIN:VCALENDAR
VERSION:2.0
PRODID:-//eventon.com NONSGML v1.0//EN
CALSCALE:GREGORIAN
METHOD:PUBLISH
BEGIN:VEVENT
UID:69e88e1f97fbc
DTSTAMP:20260422T090015Z
DTSTART:20250501T073000Z
DTEND:20250501T103000Z
LOCATION:
SUMMARY:Falkensteiner Höhle Tour 1 - Die Einsteigertour
DESCRIPTION:Falkensteiner Höhle Tour 1 - Die Einsteigertour\nhttps://cojot
 e-outdoor.de/events/falkensteiner-hoehle-tour-1-die-einsteigertour-46/
URL:https://cojote-outdoor.de/events/falkensteiner-hoehle-tour-1-die-einsteigertour-46/
END:VEVENT
END:VCALENDAR