BEGIN:VCALENDAR
VERSION:2.0
PRODID:-//eventon.com NONSGML v1.0//EN
CALSCALE:GREGORIAN
METHOD:PUBLISH
BEGIN:VEVENT
UID:69e88df2a5161
DTSTAMP:20260422T085930Z
DTSTART:20250414T110000Z
DTEND:20250414T150000Z
LOCATION:
SUMMARY:Falkensteiner Höhle Tour 2 - Die Tour für Mutige
DESCRIPTION:Falkensteiner Höhle Tour 2 - Die Tour für Mutige\nhttps://coj
 ote-outdoor.de/events/falkensteiner-hoehle-tour-2-die-tour-fuer-mutige-40/v
 ar/ri-1.l-L1
URL:https://cojote-outdoor.de/events/falkensteiner-hoehle-tour-2-die-tour-fuer-mutige-40/var/ri-1.l-L1
END:VEVENT
END:VCALENDAR