BEGIN:VCALENDAR
VERSION:2.0
PRODID:-//eventon.com NONSGML v1.0//EN
CALSCALE:GREGORIAN
METHOD:PUBLISH
BEGIN:VEVENT
UID:69e88b7084230
DTSTAMP:20260422T084848Z
DTSTART:20250810T063000Z
DTEND:20250810T153000Z
LOCATION:
SUMMARY:Falkensteiner Höhle Tour 4 - Die Tour für Erfahrene
DESCRIPTION:Falkensteiner Höhle Tour 4 - Die Tour für Erfahrene\nhttps://
 cojote-outdoor.de/events/falkensteiner-hoehle-tour-4-die-tour-fuer-erfahren
 e-14/
URL:https://cojote-outdoor.de/events/falkensteiner-hoehle-tour-4-die-tour-fuer-erfahrene-14/
END:VEVENT
END:VCALENDAR